BEGIN:VCALENDAR
VERSION:2.0
PRODID:-//Tukios.com/
BEGIN:VEVENT
UID:a172fc1d-e544-48d2-b5f5-14a884d68ff4@www.saetherfuneralservice.com
DTSTAMP:20260422T022008Z
DTSTART:20260426T200000Z
DTEND:20260426T230000Z
SUMMARY:Celebration of Life
DESCRIPTION:
URL:https://www.saetherfuneralservice.com/obituaries/alexander-ewell
LOCATION:Cibula Event Space 7503 Madison St  Forest Park IL 60130
GEO:41.8797502;-87.8122802
END:VEVENT
END:VCALENDAR